BEGIN:VCALENDAR
VERSION:2.0
PRODID:-//Verliehausen am Solling - ECPv6.15.20//NONSGML v1.0//EN
CALSCALE:GREGORIAN
METHOD:PUBLISH
X-ORIGINAL-URL:https://verliehausen.de
X-WR-CALDESC:Veranstaltungen für Verliehausen am Solling
REFRESH-INTERVAL;VALUE=DURATION:PT1H
X-Robots-Tag:noindex
X-PUBLISHED-TTL:PT1H
BEGIN:VTIMEZONE
TZID:Europe/Berlin
BEGIN:DAYLIGHT
TZOFFSETFROM:+0100
TZOFFSETTO:+0200
TZNAME:CEST
DTSTART:20250330T010000
END:DAYLIGHT
BEGIN:STANDARD
TZOFFSETFROM:+0200
TZOFFSETTO:+0100
TZNAME:CET
DTSTART:20251026T010000
END:STANDARD
BEGIN:DAYLIGHT
TZOFFSETFROM:+0100
TZOFFSETTO:+0200
TZNAME:CEST
DTSTART:20260329T010000
END:DAYLIGHT
BEGIN:STANDARD
TZOFFSETFROM:+0200
TZOFFSETTO:+0100
TZNAME:CET
DTSTART:20261025T010000
END:STANDARD
BEGIN:DAYLIGHT
TZOFFSETFROM:+0100
TZOFFSETTO:+0200
TZNAME:CEST
DTSTART:20270328T010000
END:DAYLIGHT
BEGIN:STANDARD
TZOFFSETFROM:+0200
TZOFFSETTO:+0100
TZNAME:CET
DTSTART:20271031T010000
END:STANDARD
END:VTIMEZONE
BEGIN:VEVENT
DTSTART;TZID=Europe/Berlin:20260102T180000
DTEND;TZID=Europe/Berlin:20260102T220000
DTSTAMP:20260421T191802
CREATED:20250201T122446Z
LAST-MODIFIED:20251230T174044Z
UID:5563-1767376800-1767391200@verliehausen.de
SUMMARY:Neujahrs-Grillen
DESCRIPTION:
URL:https://verliehausen.de/termin/neujahrs-grillen/
LOCATION:Feuerwehr Gerätehaus\, Freiwillige Feuerwehr Verliehausen\, Verliehausen\, Niedersachsen\, 37170\, Germany
CATEGORIES:Feuerwehr
ORGANIZER;CN="Feuerwehr":MAILTO:feuerwehr@verliehausen.de
END:VEVENT
BEGIN:VEVENT
DTSTART;TZID=Europe/Berlin:20260103T200000
DTEND;TZID=Europe/Berlin:20260103T213000
DTSTAMP:20260421T191802
CREATED:20250201T122617Z
LAST-MODIFIED:20250201T122617Z
UID:5565-1767470400-1767475800@verliehausen.de
SUMMARY:JHV Kyffhäuser Kameradschaft
DESCRIPTION:
URL:https://verliehausen.de/termin/jhv-kyffhaeuser-kameradschaft/
LOCATION:Hieventalhalle\, Hieventalhalle Verliehausen\, Verliehausen\, Niedersachsen\, 37170\, Deutschland
CATEGORIES:Kyffhäuser
END:VEVENT
BEGIN:VEVENT
DTSTART;TZID=Europe/Berlin:20260110T100000
DTEND;TZID=Europe/Berlin:20260110T120000
DTSTAMP:20260421T191802
CREATED:20250201T122728Z
LAST-MODIFIED:20250201T122728Z
UID:5567-1768039200-1768046400@verliehausen.de
SUMMARY:Weihnachtsbäume einsammeln
DESCRIPTION:
URL:https://verliehausen.de/termin/weihnachtsbaeume-einsammeln/
LOCATION:Dorf
CATEGORIES:Feuerwehr
ORGANIZER;CN="Feuerwehr":MAILTO:feuerwehr@verliehausen.de
END:VEVENT
BEGIN:VEVENT
DTSTART;TZID=Europe/Berlin:20260110T180000
DTEND;TZID=Europe/Berlin:20260110T220000
DTSTAMP:20260421T191802
CREATED:20250201T122836Z
LAST-MODIFIED:20250201T124353Z
UID:5569-1768068000-1768082400@verliehausen.de
SUMMARY:JHV Tuspo
DESCRIPTION:
URL:https://verliehausen.de/termin/jhv-tuspo/
LOCATION:Hieventalhalle\, Hieventalhalle Verliehausen\, Verliehausen\, Niedersachsen\, 37170\, Deutschland
CATEGORIES:Sportverein
ORGANIZER;CN="Sportverein":MAILTO:tuspo@verliehausen.de
END:VEVENT
BEGIN:VEVENT
DTSTART;TZID=Europe/Berlin:20260111T100000
DTEND;TZID=Europe/Berlin:20260111T130000
DTSTAMP:20260421T191802
CREATED:20250201T122955Z
LAST-MODIFIED:20250201T122955Z
UID:5571-1768125600-1768136400@verliehausen.de
SUMMARY:Neujahrs-Empfang
DESCRIPTION:
URL:https://verliehausen.de/termin/neujahrs-empfang/
LOCATION:Kirche Schoningen\, Landstraße 24\, Uslar\, 37170\, Deutschland
CATEGORIES:Kirche
END:VEVENT
BEGIN:VEVENT
DTSTART;TZID=Europe/Berlin:20260119T150000
DTEND;TZID=Europe/Berlin:20260119T170000
DTSTAMP:20260421T191802
CREATED:20250201T123136Z
LAST-MODIFIED:20250201T123136Z
UID:5573-1768834800-1768842000@verliehausen.de
SUMMARY:Jahresabschluss MGV
DESCRIPTION:
URL:https://verliehausen.de/termin/jahresabschluss-mgv/
LOCATION:Hieventalhalle\, Hieventalhalle Verliehausen\, Verliehausen\, Niedersachsen\, 37170\, Deutschland
CATEGORIES:Gesangverein
END:VEVENT
BEGIN:VEVENT
DTSTART;TZID=Europe/Berlin:20260124T180000
DTEND;TZID=Europe/Berlin:20260124T220000
DTSTAMP:20260421T191802
CREATED:20250201T123238Z
LAST-MODIFIED:20251210T200245Z
UID:5575-1769277600-1769292000@verliehausen.de
SUMMARY:JHV FFW
DESCRIPTION:
URL:https://verliehausen.de/termin/jhv-ffw/
LOCATION:Hieventalhalle\, Hieventalhalle Verliehausen\, Verliehausen\, Niedersachsen\, 37170\, Deutschland
CATEGORIES:Feuerwehr
ORGANIZER;CN="Feuerwehr":MAILTO:feuerwehr@verliehausen.de
END:VEVENT
END:VCALENDAR