BEGIN:VCALENDAR
VERSION:2.0
PRODID:-//Verliehausen am Solling - ECPv6.15.20//NONSGML v1.0//EN
CALSCALE:GREGORIAN
METHOD:PUBLISH
X-WR-CALNAME:Verliehausen am Solling
X-ORIGINAL-URL:https://verliehausen.de
X-WR-CALDESC:Veranstaltungen für Verliehausen am Solling
REFRESH-INTERVAL;VALUE=DURATION:PT1H
X-Robots-Tag:noindex
X-PUBLISHED-TTL:PT1H
BEGIN:VTIMEZONE
TZID:Europe/Berlin
BEGIN:DAYLIGHT
TZOFFSETFROM:+0100
TZOFFSETTO:+0200
TZNAME:CEST
DTSTART:20250330T010000
END:DAYLIGHT
BEGIN:STANDARD
TZOFFSETFROM:+0200
TZOFFSETTO:+0100
TZNAME:CET
DTSTART:20251026T010000
END:STANDARD
BEGIN:DAYLIGHT
TZOFFSETFROM:+0100
TZOFFSETTO:+0200
TZNAME:CEST
DTSTART:20260329T010000
END:DAYLIGHT
BEGIN:STANDARD
TZOFFSETFROM:+0200
TZOFFSETTO:+0100
TZNAME:CET
DTSTART:20261025T010000
END:STANDARD
BEGIN:DAYLIGHT
TZOFFSETFROM:+0100
TZOFFSETTO:+0200
TZNAME:CEST
DTSTART:20270328T010000
END:DAYLIGHT
BEGIN:STANDARD
TZOFFSETFROM:+0200
TZOFFSETTO:+0100
TZNAME:CET
DTSTART:20271031T010000
END:STANDARD
BEGIN:DAYLIGHT
TZOFFSETFROM:+0100
TZOFFSETTO:+0200
TZNAME:CEST
DTSTART:20280326T010000
END:DAYLIGHT
BEGIN:STANDARD
TZOFFSETFROM:+0200
TZOFFSETTO:+0100
TZNAME:CET
DTSTART:20281029T010000
END:STANDARD
END:VTIMEZONE
BEGIN:VEVENT
DTSTART;TZID=Europe/Berlin:20260425T100000
DTEND;TZID=Europe/Berlin:20260425T100000
DTSTAMP:20260421T130240
CREATED:20260208T152754Z
LAST-MODIFIED:20260208T152759Z
UID:5704-1777111200-1777111200@verliehausen.de
SUMMARY:Reinigung & Pflegearbeiten
DESCRIPTION:
URL:https://verliehausen.de/termin/reinigung-pflegearbeiten/
LOCATION:Hieventalhalle\, Hieventalhalle Verliehausen\, Verliehausen\, Niedersachsen\, 37170\, Deutschland
CATEGORIES:Sportverein
END:VEVENT
BEGIN:VEVENT
DTSTART;TZID=Europe/Berlin:20260426T103000
DTEND;TZID=Europe/Berlin:20260426T103000
DTSTAMP:20260421T130240
CREATED:20260208T153124Z
LAST-MODIFIED:20260208T153129Z
UID:5708-1777199400-1777199400@verliehausen.de
SUMMARY:Konfirmation
DESCRIPTION:
URL:https://verliehausen.de/termin/konfirmation-2/
LOCATION:Kirche Schoningen\, Landstraße 24\, Uslar\, 37170\, Deutschland
CATEGORIES:Kirche
END:VEVENT
BEGIN:VEVENT
DTSTART;TZID=Europe/Berlin:20260430T183000
DTEND;TZID=Europe/Berlin:20260430T183000
DTSTAMP:20260421T130240
CREATED:20260208T152952Z
LAST-MODIFIED:20260208T152958Z
UID:5706-1777573800-1777573800@verliehausen.de
SUMMARY:Maifeier mit MGV
DESCRIPTION:
URL:https://verliehausen.de/termin/maifeier-mit-mgv/
LOCATION:Hieventalhalle\, Hieventalhalle Verliehausen\, Verliehausen\, Niedersachsen\, 37170\, Deutschland
CATEGORIES:Sportverein
END:VEVENT
BEGIN:VEVENT
DTSTART;TZID=Europe/Berlin:20260508T190000
DTEND;TZID=Europe/Berlin:20260508T190000
DTSTAMP:20260421T130240
CREATED:20260208T153345Z
LAST-MODIFIED:20260208T153350Z
UID:5711-1778266800-1778266800@verliehausen.de
SUMMARY:JHV - Realgemeinde
DESCRIPTION:
URL:https://verliehausen.de/termin/jhv-realgemeinde/
LOCATION:Hieventalhalle\, Hieventalhalle Verliehausen\, Verliehausen\, Niedersachsen\, 37170\, Deutschland
CATEGORIES:Realgemeinde
END:VEVENT
BEGIN:VEVENT
DTSTART;TZID=Europe/Berlin:20260524T100000
DTEND;TZID=Europe/Berlin:20260524T100000
DTSTAMP:20260421T130240
CREATED:20260208T153529Z
LAST-MODIFIED:20260208T153535Z
UID:5713-1779616800-1779616800@verliehausen.de
SUMMARY:Pfingstschießen
DESCRIPTION:
URL:https://verliehausen.de/termin/pfingstschiessen/
LOCATION:Schützenhaus\, Am Forstweg 998\, Verliehausen\, 37170\, Deutschland
CATEGORIES:Kyffhäuser
END:VEVENT
BEGIN:VEVENT
DTSTART;TZID=Europe/Berlin:20260525T110000
DTEND;TZID=Europe/Berlin:20260525T110000
DTSTAMP:20260421T130240
CREATED:20260208T153658Z
LAST-MODIFIED:20260208T153703Z
UID:5715-1779706800-1779706800@verliehausen.de
SUMMARY:Pfingstgottesdienst
DESCRIPTION:
URL:https://verliehausen.de/termin/pfingstgottesdienst/
LOCATION:Kirche\, Ev.St.-Vitus-Kapelle Verliehausen\, Verliehausen\, Niedersachsen\, 37170\, Deutschland
CATEGORIES:Kirche
END:VEVENT
BEGIN:VEVENT
DTSTART;TZID=Europe/Berlin:20260530T160000
DTEND;TZID=Europe/Berlin:20260530T160000
DTSTAMP:20260421T130240
CREATED:20260208T153831Z
LAST-MODIFIED:20260208T153835Z
UID:5717-1780156800-1780156800@verliehausen.de
SUMMARY:Sommerfest
DESCRIPTION:
URL:https://verliehausen.de/termin/sommerfest/
LOCATION:Sängerplatz\, Oberdorfstraße 34\, Verliehausen\, 37170
CATEGORIES:Gesangverein
END:VEVENT
BEGIN:VEVENT
DTSTART;TZID=Europe/Berlin:20260614T080000
DTEND;TZID=Europe/Berlin:20260614T080000
DTSTAMP:20260421T130240
CREATED:20260208T154019Z
LAST-MODIFIED:20260208T154025Z
UID:5719-1781424000-1781424000@verliehausen.de
SUMMARY:Abschnittswettkämpfe Hohnstedt
DESCRIPTION:
URL:https://verliehausen.de/termin/abschnittswettkaempfe-hohnstedt/
CATEGORIES:Feuerwehr
END:VEVENT
BEGIN:VEVENT
DTSTART;TZID=Europe/Berlin:20260616T193000
DTEND;TZID=Europe/Berlin:20260616T193000
DTSTAMP:20260421T130240
CREATED:20260208T154231Z
LAST-MODIFIED:20260208T154315Z
UID:5721-1781638200-1781638200@verliehausen.de
SUMMARY:Aufstellungsversammlung
DESCRIPTION:Aufstellungsversammlung Wählerbündnis Verliehausen
URL:https://verliehausen.de/termin/aufstellungsversammlung/
CATEGORIES:Ortsrat
END:VEVENT
BEGIN:VEVENT
DTSTART;TZID=Europe/Berlin:20260704T173000
DTEND;TZID=Europe/Berlin:20260704T173000
DTSTAMP:20260421T130240
CREATED:20260208T155332Z
LAST-MODIFIED:20260208T155337Z
UID:5724-1783186200-1783186200@verliehausen.de
SUMMARY:Sommerlochfest
DESCRIPTION:
URL:https://verliehausen.de/termin/sommerlochfest/
LOCATION:Haus Dorfmitte\, Offenser Straße 12\, Verliehausen\, Niedersachsen\, 37170\, Deutschland
CATEGORIES:Dorfmitte
END:VEVENT
BEGIN:VEVENT
DTSTART;TZID=Europe/Berlin:20260815T091500
DTEND;TZID=Europe/Berlin:20260815T091500
DTSTAMP:20260421T130240
CREATED:20260208T155536Z
LAST-MODIFIED:20260208T155542Z
UID:5726-1786785300-1786785300@verliehausen.de
SUMMARY:Einschulung - Gottesdienst
DESCRIPTION:
URL:https://verliehausen.de/termin/einschulung-gottesdienst/
LOCATION:Kirche Schoningen\, Landstraße 24\, Uslar\, 37170\, Deutschland
CATEGORIES:Kirche
END:VEVENT
BEGIN:VEVENT
DTSTART;TZID=Europe/Berlin:20260823T100000
DTEND;TZID=Europe/Berlin:20260823T100000
DTSTAMP:20260421T130240
CREATED:20260208T155716Z
LAST-MODIFIED:20260208T155722Z
UID:5728-1787479200-1787479200@verliehausen.de
SUMMARY:Königsschießen
DESCRIPTION:
URL:https://verliehausen.de/termin/koenigsschiessen-2/
LOCATION:Schützenhaus\, Am Forstweg 998\, Verliehausen\, 37170\, Deutschland
CATEGORIES:Kyffhäuser
END:VEVENT
BEGIN:VEVENT
DTSTART;TZID=Europe/Berlin:20260902T190000
DTEND;TZID=Europe/Berlin:20260902T190000
DTSTAMP:20260421T130240
CREATED:20260208T155926Z
LAST-MODIFIED:20260208T155931Z
UID:5730-1788375600-1788375600@verliehausen.de
SUMMARY:Besprechung Ortsrat Vereine
DESCRIPTION:
URL:https://verliehausen.de/termin/besprechung-ortsrat-vereine-2/
LOCATION:Haus Dorfmitte\, Offenser Straße 12\, Verliehausen\, Niedersachsen\, 37170\, Deutschland
CATEGORIES:Ortsrat
END:VEVENT
BEGIN:VEVENT
DTSTART;TZID=Europe/Berlin:20260913T080000
DTEND;TZID=Europe/Berlin:20260913T080000
DTSTAMP:20260421T130240
CREATED:20260208T160059Z
LAST-MODIFIED:20260208T160103Z
UID:5732-1789286400-1789286400@verliehausen.de
SUMMARY:Kommunalwahlen
DESCRIPTION:
URL:https://verliehausen.de/termin/kommunalwahlen/
LOCATION:Hieventalhalle\, Hieventalhalle Verliehausen\, Verliehausen\, Niedersachsen\, 37170\, Deutschland
END:VEVENT
BEGIN:VEVENT
DTSTART;TZID=Europe/Berlin:20260918T190000
DTEND;TZID=Europe/Berlin:20260918T190000
DTSTAMP:20260421T130240
CREATED:20260208T160218Z
LAST-MODIFIED:20260208T160223Z
UID:5734-1789758000-1789758000@verliehausen.de
SUMMARY:Mitgliederversammlung FFW
DESCRIPTION:
URL:https://verliehausen.de/termin/mitgliederversammlung-ffw-2/
LOCATION:Feuerwehr Gerätehaus\, Freiwillige Feuerwehr Verliehausen\, Verliehausen\, Niedersachsen\, 37170\, Germany
CATEGORIES:Feuerwehr
END:VEVENT
BEGIN:VEVENT
DTSTART;TZID=Europe/Berlin:20260926T100000
DTEND;TZID=Europe/Berlin:20260926T100000
DTSTAMP:20260421T130240
CREATED:20260208T160404Z
LAST-MODIFIED:20260208T160409Z
UID:5736-1790416800-1790416800@verliehausen.de
SUMMARY:Reinigung & Pflegearbeiten
DESCRIPTION:
URL:https://verliehausen.de/termin/reinigung-pflegearbeiten-2/
LOCATION:Hieventalhalle\, Hieventalhalle Verliehausen\, Verliehausen\, Niedersachsen\, 37170\, Deutschland
CATEGORIES:Sportverein
END:VEVENT
BEGIN:VEVENT
DTSTART;TZID=Europe/Berlin:20261004T140000
DTEND;TZID=Europe/Berlin:20261004T140000
DTSTAMP:20260421T130240
CREATED:20260208T160547Z
LAST-MODIFIED:20260208T160552Z
UID:5738-1791122400-1791122400@verliehausen.de
SUMMARY:Erntedankfest
DESCRIPTION:Ausrichter: MGV / Tuspo / Kirche
URL:https://verliehausen.de/termin/erntedankfest/
LOCATION:Hieventalhalle\, Hieventalhalle Verliehausen\, Verliehausen\, Niedersachsen\, 37170\, Deutschland
END:VEVENT
BEGIN:VEVENT
DTSTART;TZID=Europe/Berlin:20261011T100000
DTEND;TZID=Europe/Berlin:20261011T100000
DTSTAMP:20260421T130240
CREATED:20260208T160715Z
LAST-MODIFIED:20260208T160720Z
UID:5740-1791712800-1791712800@verliehausen.de
SUMMARY:Adlerschießen
DESCRIPTION:
URL:https://verliehausen.de/termin/adlerschiessen-2/
LOCATION:Schützenhaus\, Am Forstweg 998\, Verliehausen\, 37170\, Deutschland
CATEGORIES:Kyffhäuser
END:VEVENT
BEGIN:VEVENT
DTSTART;TZID=Europe/Berlin:20261024T180000
DTEND;TZID=Europe/Berlin:20261024T180000
DTSTAMP:20260421T130240
CREATED:20260208T160822Z
LAST-MODIFIED:20260208T160826Z
UID:5742-1792864800-1792864800@verliehausen.de
SUMMARY:Schlachtebuffet
DESCRIPTION:
URL:https://verliehausen.de/termin/schlachtebuffet-2/
LOCATION:Hieventalhalle\, Hieventalhalle Verliehausen\, Verliehausen\, Niedersachsen\, 37170\, Deutschland
CATEGORIES:Sportverein
END:VEVENT
BEGIN:VEVENT
DTSTART;TZID=Europe/Berlin:20261028T193000
DTEND;TZID=Europe/Berlin:20261028T193000
DTSTAMP:20260421T130240
CREATED:20260208T160951Z
LAST-MODIFIED:20260208T160956Z
UID:5744-1793215800-1793215800@verliehausen.de
SUMMARY:Ortsratsitzung
DESCRIPTION:
URL:https://verliehausen.de/termin/ortsratsitzung-4/
LOCATION:Haus Dorfmitte\, Offenser Straße 12\, Verliehausen\, Niedersachsen\, 37170\, Deutschland
CATEGORIES:Ortsrat
END:VEVENT
BEGIN:VEVENT
DTSTART;TZID=Europe/Berlin:20261106T193000
DTEND;TZID=Europe/Berlin:20261106T193000
DTSTAMP:20260421T130240
CREATED:20260208T161127Z
LAST-MODIFIED:20260208T161132Z
UID:5746-1793993400-1793993400@verliehausen.de
SUMMARY:Preisskat & Knobeln
DESCRIPTION:
URL:https://verliehausen.de/termin/preisskat-knobeln-2/
LOCATION:Hieventalhalle\, Hieventalhalle Verliehausen\, Verliehausen\, Niedersachsen\, 37170\, Deutschland
CATEGORIES:Sportverein
END:VEVENT
BEGIN:VEVENT
DTSTART;TZID=Europe/Berlin:20261108T100000
DTEND;TZID=Europe/Berlin:20261108T100000
DTSTAMP:20260421T130240
CREATED:20260208T161249Z
LAST-MODIFIED:20260208T161254Z
UID:5748-1794132000-1794132000@verliehausen.de
SUMMARY:Tagesausflug - HKV
DESCRIPTION:
URL:https://verliehausen.de/termin/tagesausflug-hkv-2/
CATEGORIES:Heimat & Kultur
END:VEVENT
BEGIN:VEVENT
DTSTART;TZID=Europe/Berlin:20261114T190000
DTEND;TZID=Europe/Berlin:20261114T190000
DTSTAMP:20260421T130240
CREATED:20260208T161438Z
LAST-MODIFIED:20260208T161443Z
UID:5750-1794682800-1794682800@verliehausen.de
SUMMARY:Jahreshauptversammlung MGV
DESCRIPTION:
URL:https://verliehausen.de/termin/jahreshauptversammlung-mgv/
LOCATION:Hieventalhalle\, Hieventalhalle Verliehausen\, Verliehausen\, Niedersachsen\, 37170\, Deutschland
CATEGORIES:Gesangverein
END:VEVENT
BEGIN:VEVENT
DTSTART;TZID=Europe/Berlin:20261115T133000
DTEND;TZID=Europe/Berlin:20261115T133000
DTSTAMP:20260421T130240
CREATED:20260208T161639Z
LAST-MODIFIED:20260208T161643Z
UID:5752-1794749400-1794749400@verliehausen.de
SUMMARY:Gedenken am Ehrenmal mit MGV
DESCRIPTION:Ausrichter: Ortsrat/Kirche
URL:https://verliehausen.de/termin/gedenken-am-ehrenmal-mit-mgv/
LOCATION:Schützenhaus\, Am Forstweg 998\, Verliehausen\, 37170\, Deutschland
END:VEVENT
BEGIN:VEVENT
DTSTART;TZID=Europe/Berlin:20261118T193000
DTEND;TZID=Europe/Berlin:20261118T193000
DTSTAMP:20260421T130240
CREATED:20260208T161749Z
LAST-MODIFIED:20260208T180314Z
UID:5754-1795030200-1795030200@verliehausen.de
SUMMARY:Terminabsprache
DESCRIPTION:
URL:https://verliehausen.de/termin/terminabsprache/
LOCATION:Hieventalhalle\, Hieventalhalle Verliehausen\, Verliehausen\, Niedersachsen\, 37170\, Deutschland
CATEGORIES:Bioenergie,Dorfmitte,Feuerwehr,Gasthaus,Gesangverein,Heimat & Kultur,Jagdgenossenschaft,Kirche,Kyffhäuser,Ortsheimatpflege,Ortsrat,Realgemeinde,Sportverein
END:VEVENT
BEGIN:VEVENT
DTSTART;TZID=Europe/Berlin:20261121T100000
DTEND;TZID=Europe/Berlin:20261121T100000
DTSTAMP:20260421T130240
CREATED:20260208T161909Z
LAST-MODIFIED:20260208T161915Z
UID:5756-1795255200-1795255200@verliehausen.de
SUMMARY:Weihnachtsmarkt Aufbau
DESCRIPTION:
URL:https://verliehausen.de/termin/weihnachtsmarkt-aufbau/
LOCATION:Hieventalhalle\, Hieventalhalle Verliehausen\, Verliehausen\, Niedersachsen\, 37170\, Deutschland
END:VEVENT
BEGIN:VEVENT
DTSTART;TZID=Europe/Berlin:20261128T150000
DTEND;TZID=Europe/Berlin:20261128T150000
DTSTAMP:20260421T130240
CREATED:20260208T162017Z
LAST-MODIFIED:20260208T170323Z
UID:5758-1795878000-1795878000@verliehausen.de
SUMMARY:Weihnachtsmarkt
DESCRIPTION:
URL:https://verliehausen.de/termin/weihnachtsmarkt-2/
LOCATION:Hieventalhalle\, Hieventalhalle Verliehausen\, Verliehausen\, Niedersachsen\, 37170\, Deutschland
CATEGORIES:Bioenergie,Dorfmitte,Feuerwehr,Gasthaus,Gesangverein,Heimat & Kultur,Jagdgenossenschaft,Kirche,Kyffhäuser,Ortsheimatpflege,Ortsrat,Realgemeinde,Sportverein
END:VEVENT
BEGIN:VEVENT
DTSTART;TZID=Europe/Berlin:20261219T190000
DTEND;TZID=Europe/Berlin:20261219T190000
DTSTAMP:20260421T130240
CREATED:20260208T162141Z
LAST-MODIFIED:20260208T162146Z
UID:5760-1797706800-1797706800@verliehausen.de
SUMMARY:Weihnachtsfeier Aktive FFW
DESCRIPTION:
URL:https://verliehausen.de/termin/weihnachtsfeier-aktive-ffw/
LOCATION:Hieventalhalle\, Hieventalhalle Verliehausen\, Verliehausen\, Niedersachsen\, 37170\, Deutschland
CATEGORIES:Feuerwehr
END:VEVENT
BEGIN:VEVENT
DTSTART;TZID=Europe/Berlin:20261224T140000
DTEND;TZID=Europe/Berlin:20261224T140000
DTSTAMP:20260421T130240
CREATED:20260208T162320Z
LAST-MODIFIED:20260208T162347Z
UID:5762-1798120800-1798120800@verliehausen.de
SUMMARY:Gottesdienst mit MGV
DESCRIPTION:Uhrzeit stand noch nicht fest
URL:https://verliehausen.de/termin/gottesdienst-mit-mgv/
LOCATION:Kirche\, Ev.St.-Vitus-Kapelle Verliehausen\, Verliehausen\, Niedersachsen\, 37170\, Deutschland
CATEGORIES:Kirche
END:VEVENT
BEGIN:VEVENT
DTSTART;TZID=Europe/Berlin:20270102T200000
DTEND;TZID=Europe/Berlin:20270102T200000
DTSTAMP:20260421T130240
CREATED:20260208T162527Z
LAST-MODIFIED:20260208T162533Z
UID:5765-1798920000-1798920000@verliehausen.de
SUMMARY:JHV - Kyffhäuser
DESCRIPTION:
URL:https://verliehausen.de/termin/jhv-kyffhaeuser/
LOCATION:Hieventalhalle\, Hieventalhalle Verliehausen\, Verliehausen\, Niedersachsen\, 37170\, Deutschland
CATEGORIES:Kyffhäuser
END:VEVENT
END:VCALENDAR