BEGIN:VCALENDAR
VERSION:2.0
PRODID:-//Verliehausen am Solling - ECPv6.15.20//NONSGML v1.0//EN
CALSCALE:GREGORIAN
METHOD:PUBLISH
X-ORIGINAL-URL:https://verliehausen.de
X-WR-CALDESC:Veranstaltungen für Verliehausen am Solling
REFRESH-INTERVAL;VALUE=DURATION:PT1H
X-Robots-Tag:noindex
X-PUBLISHED-TTL:PT1H
BEGIN:VTIMEZONE
TZID:Europe/Berlin
BEGIN:DAYLIGHT
TZOFFSETFROM:+0100
TZOFFSETTO:+0200
TZNAME:CEST
DTSTART:20250330T010000
END:DAYLIGHT
BEGIN:STANDARD
TZOFFSETFROM:+0200
TZOFFSETTO:+0100
TZNAME:CET
DTSTART:20251026T010000
END:STANDARD
BEGIN:DAYLIGHT
TZOFFSETFROM:+0100
TZOFFSETTO:+0200
TZNAME:CEST
DTSTART:20260329T010000
END:DAYLIGHT
BEGIN:STANDARD
TZOFFSETFROM:+0200
TZOFFSETTO:+0100
TZNAME:CET
DTSTART:20261025T010000
END:STANDARD
BEGIN:DAYLIGHT
TZOFFSETFROM:+0100
TZOFFSETTO:+0200
TZNAME:CEST
DTSTART:20270328T010000
END:DAYLIGHT
BEGIN:STANDARD
TZOFFSETFROM:+0200
TZOFFSETTO:+0100
TZNAME:CET
DTSTART:20271031T010000
END:STANDARD
END:VTIMEZONE
BEGIN:VEVENT
DTSTART;TZID=Europe/Berlin:20260329T123000
DTEND;TZID=Europe/Berlin:20260329T200000
DTSTAMP:20260421T174639
CREATED:20260208T151640Z
LAST-MODIFIED:20260317T072829Z
UID:5691-1774787400-1774814400@verliehausen.de
SUMMARY:Fröhliche Boßeltour 2.0 am 29.03.2026
DESCRIPTION:Gemeinsame Boßeltour 2.0 am 29.03.2026
URL:https://verliehausen.de/termin/bosseln/
LOCATION:Friedhof Schoningen\, Kirchhofsweg\, Schoningen\, 37170\, Germany
CATEGORIES:Heimat & Kultur
ATTACH;FMTTYPE=image/jpeg:https://verliehausen.de/wp-content/uploads/2026/03/Bosseln26_2.jpg
END:VEVENT
END:VCALENDAR